BEGIN:VCALENDAR
VERSION:2.0
PRODID:-//UCLA Luskin Center for History and Policy - ECPv6.15.20//NONSGML v1.0//EN
CALSCALE:GREGORIAN
METHOD:PUBLISH
X-WR-CALNAME:UCLA Luskin Center for History and Policy
X-ORIGINAL-URL:https://luskincenter.history.ucla.edu
X-WR-CALDESC:Events for UCLA Luskin Center for History and Policy
REFRESH-INTERVAL;VALUE=DURATION:PT1H
X-Robots-Tag:noindex
X-PUBLISHED-TTL:PT1H
BEGIN:VTIMEZONE
TZID:America/Los_Angeles
BEGIN:DAYLIGHT
TZOFFSETFROM:-0800
TZOFFSETTO:-0700
TZNAME:PDT
DTSTART:20200308T100000
END:DAYLIGHT
BEGIN:STANDARD
TZOFFSETFROM:-0700
TZOFFSETTO:-0800
TZNAME:PST
DTSTART:20201101T090000
END:STANDARD
BEGIN:DAYLIGHT
TZOFFSETFROM:-0800
TZOFFSETTO:-0700
TZNAME:PDT
DTSTART:20210314T100000
END:DAYLIGHT
BEGIN:STANDARD
TZOFFSETFROM:-0700
TZOFFSETTO:-0800
TZNAME:PST
DTSTART:20211107T090000
END:STANDARD
BEGIN:DAYLIGHT
TZOFFSETFROM:-0800
TZOFFSETTO:-0700
TZNAME:PDT
DTSTART:20220313T100000
END:DAYLIGHT
BEGIN:STANDARD
TZOFFSETFROM:-0700
TZOFFSETTO:-0800
TZNAME:PST
DTSTART:20221106T090000
END:STANDARD
END:VTIMEZONE
BEGIN:VEVENT
DTSTART;TZID=America/Los_Angeles:20211205T110000
DTEND;TZID=America/Los_Angeles:20211205T123000
DTSTAMP:20260425T055002
CREATED:20210830T232315Z
LAST-MODIFIED:20220112T183436Z
UID:5059-1638702000-1638707400@luskincenter.history.ucla.edu
SUMMARY:Deadlock in Israel-Palestine: How to Imagine a Better Future?
DESCRIPTION:Event Recording \nRSVP Part 1:   http://tinyurl.com/DeadlockPart1\nRSVP Part 2:   http://tinyurl.com/DeadlockPart2
URL:https://luskincenter.history.ucla.edu/event/deadlock-in-israel-palestine-how-to-imagine-a-better-future-2021-12-05/
LOCATION:Webinar
CATEGORIES:Other
ATTACH;FMTTYPE=image/png:https://luskincenter.history.ucla.edu/wp-content/uploads/sites/66/2021/08/Deadlock-in-Israel-Palestine-final-flyer.png
END:VEVENT
END:VCALENDAR