BEGIN:VCALENDAR
VERSION:2.0
PRODID:-//UCLA Luskin Center for History and Policy - ECPv6.15.20//NONSGML v1.0//EN
CALSCALE:GREGORIAN
METHOD:PUBLISH
X-WR-CALNAME:UCLA Luskin Center for History and Policy
X-ORIGINAL-URL:https://luskincenter.history.ucla.edu
X-WR-CALDESC:Events for UCLA Luskin Center for History and Policy
REFRESH-INTERVAL;VALUE=DURATION:PT1H
X-Robots-Tag:noindex
X-PUBLISHED-TTL:PT1H
BEGIN:VTIMEZONE
TZID:America/Los_Angeles
BEGIN:DAYLIGHT
TZOFFSETFROM:-0800
TZOFFSETTO:-0700
TZNAME:PDT
DTSTART:20220313T100000
END:DAYLIGHT
BEGIN:STANDARD
TZOFFSETFROM:-0700
TZOFFSETTO:-0800
TZNAME:PST
DTSTART:20221106T090000
END:STANDARD
BEGIN:DAYLIGHT
TZOFFSETFROM:-0800
TZOFFSETTO:-0700
TZNAME:PDT
DTSTART:20230312T100000
END:DAYLIGHT
BEGIN:STANDARD
TZOFFSETFROM:-0700
TZOFFSETTO:-0800
TZNAME:PST
DTSTART:20231105T090000
END:STANDARD
BEGIN:DAYLIGHT
TZOFFSETFROM:-0800
TZOFFSETTO:-0700
TZNAME:PDT
DTSTART:20240310T100000
END:DAYLIGHT
BEGIN:STANDARD
TZOFFSETFROM:-0700
TZOFFSETTO:-0800
TZNAME:PST
DTSTART:20241103T090000
END:STANDARD
END:VTIMEZONE
BEGIN:VEVENT
DTSTART;TZID=America/Los_Angeles:20230208T123000
DTEND;TZID=America/Los_Angeles:20230208T123000
DTSTAMP:20260423T104153
CREATED:20230202T192523Z
LAST-MODIFIED:20250218T211714Z
UID:5510-1675859400-1675859400@luskincenter.history.ucla.edu
SUMMARY:'To Fight One War with the Other': Race\, the War on Poverty\, and the Vietnam Draft
DESCRIPTION:Dr. Ben Zdencanovic (Postdoctoral Scholar at the Luskin Center for History and Policy) \n  \nThis talk traces the largely forgotten history of “Project 100\,000\,” a Defense Department initiative which recruited tens of thousands of poor and working-class nonwhite men into Vietnam from 1966-1971. Contrary to the “guns versus butter” narratives that we typically have of this era\, “Project 100\,000” was conceived as a component of the domestic War on Poverty. In the hopes of Secretary of Defense Robert S. McNamara\, labor official Patrick Moynihan\, and others in the Johnson administration\, “Project 100\,000” would simultaneously address conscription needs for the Vietnam War and also serve a social function by providing vocational training and a disciplined masculine environment for underemployed youths of color. The talk thus shows how the Great Society state combined paternalistic welfarism and conscriptive militarism to discipline and manage marginalized\, underemployed\, and putatively volatile nonwhite urban populations. The story of “Project 100\,000” indicates that the War on Poverty is best understood not as an expression of well-intentioned but paternalistic liberalism (as scholars typically depict it)\, but rather as a technocratic effort to mobilize and manage the manpower of racialized surplus labor in the context of the Cold War national security state.
URL:https://luskincenter.history.ucla.edu/event/dr-ben-zdencanovic-to-fight-one-war-with-the-other-race-the-war-on-poverty-and-the-vietnam-draft/
CATEGORIES:Other
END:VEVENT
END:VCALENDAR