BEGIN:VCALENDAR
VERSION:2.0
PRODID:-//UCLA Luskin Center for History and Policy - ECPv6.15.20//NONSGML v1.0//EN
CALSCALE:GREGORIAN
METHOD:PUBLISH
X-ORIGINAL-URL:https://luskincenter.history.ucla.edu
X-WR-CALDESC:Events for UCLA Luskin Center for History and Policy
REFRESH-INTERVAL;VALUE=DURATION:PT1H
X-Robots-Tag:noindex
X-PUBLISHED-TTL:PT1H
BEGIN:VTIMEZONE
TZID:America/Los_Angeles
BEGIN:DAYLIGHT
TZOFFSETFROM:-0800
TZOFFSETTO:-0700
TZNAME:PDT
DTSTART:20220313T100000
END:DAYLIGHT
BEGIN:STANDARD
TZOFFSETFROM:-0700
TZOFFSETTO:-0800
TZNAME:PST
DTSTART:20221106T090000
END:STANDARD
BEGIN:DAYLIGHT
TZOFFSETFROM:-0800
TZOFFSETTO:-0700
TZNAME:PDT
DTSTART:20230312T100000
END:DAYLIGHT
BEGIN:STANDARD
TZOFFSETFROM:-0700
TZOFFSETTO:-0800
TZNAME:PST
DTSTART:20231105T090000
END:STANDARD
BEGIN:DAYLIGHT
TZOFFSETFROM:-0800
TZOFFSETTO:-0700
TZNAME:PDT
DTSTART:20240310T100000
END:DAYLIGHT
BEGIN:STANDARD
TZOFFSETFROM:-0700
TZOFFSETTO:-0800
TZNAME:PST
DTSTART:20241103T090000
END:STANDARD
END:VTIMEZONE
BEGIN:VEVENT
DTSTART;TZID=America/Los_Angeles:20230213T183000
DTEND;TZID=America/Los_Angeles:20230213T200000
DTSTAMP:20260423T114418
CREATED:20230202T193619Z
LAST-MODIFIED:20230207T231127Z
UID:5513-1676313000-1676318400@luskincenter.history.ucla.edu
SUMMARY:The Soldier's Opinion In-Person Screening and Q&A
DESCRIPTION:RSVP Here
URL:https://luskincenter.history.ucla.edu/event/the-soldiers-opinion-in-person-screening-and-qa/
LOCATION:Royce Hall Room 190
CATEGORIES:Other
ATTACH;FMTTYPE=image/jpeg:https://luskincenter.history.ucla.edu/wp-content/uploads/sites/66/2023/02/The-Soldiers-Opinion_Flyer-scaled.jpg
END:VEVENT
END:VCALENDAR