BEGIN:VCALENDAR
VERSION:2.0
PRODID:-//UCLA Luskin Center for History and Policy - ECPv6.15.20//NONSGML v1.0//EN
CALSCALE:GREGORIAN
METHOD:PUBLISH
X-WR-CALNAME:UCLA Luskin Center for History and Policy
X-ORIGINAL-URL:https://luskincenter.history.ucla.edu
X-WR-CALDESC:Events for UCLA Luskin Center for History and Policy
REFRESH-INTERVAL;VALUE=DURATION:PT1H
X-Robots-Tag:noindex
X-PUBLISHED-TTL:PT1H
BEGIN:VTIMEZONE
TZID:America/Los_Angeles
BEGIN:DAYLIGHT
TZOFFSETFROM:-0800
TZOFFSETTO:-0700
TZNAME:PDT
DTSTART:20220313T100000
END:DAYLIGHT
BEGIN:STANDARD
TZOFFSETFROM:-0700
TZOFFSETTO:-0800
TZNAME:PST
DTSTART:20221106T090000
END:STANDARD
BEGIN:DAYLIGHT
TZOFFSETFROM:-0800
TZOFFSETTO:-0700
TZNAME:PDT
DTSTART:20230312T100000
END:DAYLIGHT
BEGIN:STANDARD
TZOFFSETFROM:-0700
TZOFFSETTO:-0800
TZNAME:PST
DTSTART:20231105T090000
END:STANDARD
BEGIN:DAYLIGHT
TZOFFSETFROM:-0800
TZOFFSETTO:-0700
TZNAME:PDT
DTSTART:20240310T100000
END:DAYLIGHT
BEGIN:STANDARD
TZOFFSETFROM:-0700
TZOFFSETTO:-0800
TZNAME:PST
DTSTART:20241103T090000
END:STANDARD
END:VTIMEZONE
BEGIN:VEVENT
DTSTART;TZID=America/Los_Angeles:20230606T160000
DTEND;TZID=America/Los_Angeles:20230606T180000
DTSTAMP:20260422T162726
CREATED:20230420T162602Z
LAST-MODIFIED:20230601T210244Z
UID:5625-1686067200-1686074400@luskincenter.history.ucla.edu
SUMMARY:Zev Yaroslavsky Book Event
DESCRIPTION:  \n \nJoin us to celebrate the release of a new memoir by long-time member of the Los Angeles County Board of Supervisors and member of the LCHP Board of Advisors\, Zev Yaroslavsky. \n  \nSpace is limited for this event. Please RSVP to: luskincenter@history.ucla.edu.
URL:https://luskincenter.history.ucla.edu/event/zev-yaroslavsky-reception/
LOCATION:Royce Hall 306
CATEGORIES:Other
ATTACH;FMTTYPE=image/jpeg:https://luskincenter.history.ucla.edu/wp-content/uploads/sites/66/2023/04/Yaroslavsky-book-cover.jpg
END:VEVENT
END:VCALENDAR