BEGIN:VCALENDAR
VERSION:2.0
PRODID:-//UCLA Luskin Center for History and Policy - ECPv6.15.20//NONSGML v1.0//EN
CALSCALE:GREGORIAN
METHOD:PUBLISH
X-WR-CALNAME:UCLA Luskin Center for History and Policy
X-ORIGINAL-URL:https://luskincenter.history.ucla.edu
X-WR-CALDESC:Events for UCLA Luskin Center for History and Policy
REFRESH-INTERVAL;VALUE=DURATION:PT1H
X-Robots-Tag:noindex
X-PUBLISHED-TTL:PT1H
BEGIN:VTIMEZONE
TZID:America/Los_Angeles
BEGIN:DAYLIGHT
TZOFFSETFROM:-0800
TZOFFSETTO:-0700
TZNAME:PDT
DTSTART:20220313T100000
END:DAYLIGHT
BEGIN:STANDARD
TZOFFSETFROM:-0700
TZOFFSETTO:-0800
TZNAME:PST
DTSTART:20221106T090000
END:STANDARD
BEGIN:DAYLIGHT
TZOFFSETFROM:-0800
TZOFFSETTO:-0700
TZNAME:PDT
DTSTART:20230312T100000
END:DAYLIGHT
BEGIN:STANDARD
TZOFFSETFROM:-0700
TZOFFSETTO:-0800
TZNAME:PST
DTSTART:20231105T090000
END:STANDARD
BEGIN:DAYLIGHT
TZOFFSETFROM:-0800
TZOFFSETTO:-0700
TZNAME:PDT
DTSTART:20240310T100000
END:DAYLIGHT
BEGIN:STANDARD
TZOFFSETFROM:-0700
TZOFFSETTO:-0800
TZNAME:PST
DTSTART:20241103T090000
END:STANDARD
END:VTIMEZONE
BEGIN:VEVENT
DTSTART;TZID=America/Los_Angeles:20231010T190000
DTEND;TZID=America/Los_Angeles:20231010T213000
DTSTAMP:20260422T002744
CREATED:20231009T225100Z
LAST-MODIFIED:20231009T225348Z
UID:5900-1696964400-1696973400@luskincenter.history.ucla.edu
SUMMARY:Atrocities\, genocide & the Duty to Prevent and to Punish under International Law: The Situation of Nagorno-Karabakh/Artsakh
DESCRIPTION:This event is a co-production of the Promise Institute for Human Rights at UCLA School of Law and The Promise Armenian Institute at UCLA. \nArmenians have suffered discrimination and persecution at the hands of Azerbaijan—in Azerbaijan\, Armenia and in Nagorno-Karabakh/Artsakh—for decades. In December 2022\, Azerbaijan began its restrictions and eventual full blockade of the Lachin Corridor\, the only road connecting the 120\,000 ethnic Armenians in the territory of Nagorno-Karabakh/Artsakh within the borders of Azerbaijan to Armenia proper. As of this writing\, for nearly 300 days\, the population of Nagorno-Karabakh/Artsakh\, 25% of whom are children\, have been deprived of life-saving necessities such as food\, medicines and fuel\, resulting in starvation and death. More recently\, even the International Committee of the Red Cross and other humanitarian aid organizations were prevented from accessing the population and\, all the while\, Azerbaijani officials have employed rhetoric normalizing hatred against ethnic Armenians while weaponizing starvation leading to death or forcible displacement from Nagorno-Karabakh/Artsakh. \nAzerbaijan’s aggression with respect to the Lachin Corridor over the past year is not isolated and points to a pattern and practice of ethnic cleansing that has gone unchecked for years. Indeed\, on Tuesday\, September 19\, 2023\, Azerbaijan launched a military operation against the already-suffering people of Nagorno-Karabakh/Artsakh\, with hundreds of deaths and injuries within the first 24 hours of the attack. This tragic situation became an overt initiation of wholesale\, violent ethnic cleansing\, and while ceasefire agreements may be in place\, threats to the safety and security of the ethnic Armenians in this region continue. \nLooking at the situation with respect to attacks against ethnic Armenians as a result of the Lachin Corridor blockade\, and recent active military attacks in Nagorno-Karabakh/Artsakh and in Armenia generally\, this panel will explore the following key questions drawing from action taken thus far by States and international actors (or not): \n\n\n\nWhat conditions trigger the duty to prevent atrocities\, including genocide?\nOnce triggered\, what is the scope of that duty\, and what tools\, both national and international\, can help to identify these obligations as well as lawful steps for addressing a genocidal situation?\n\n\n\n  \nAgenda: \n7:00pm-8:30pm  Panel Discussion \n8:30pm-9:30pm  Closing Reception \n  \nSpeakers: \n\nDr. Taner Akçam\, Inaugural Director\, Armenian Genocide Research Program of The Promise Armenian Institute at UCLA\nProfessor Thomas Becker\, Legal & Policy Director\, The University Network for Human Rights\, Columbia Law School & Wesleyan University\, author of briefing “The Tip of the Iceberg” on the Lachin Corridor blockade.\nProfessor Hannah Garry\, Moderator\, Executive Director\, Promise Institute for Human Rights\, signatory to Submission to UN Special Adviser on Prevention of Genocide\, Sept. 5\, 2023\nProfessor Juan Méndez\, American University Washington College of Law\, first UN Special Advisor on Prevention of Genocide\, author of a “Preliminary Opinion” on the crisis in Nagorno-Karabakh/Artsakh and the need to prevent atrocity crimes.\nSheila Paylan\, International law\, human rights and gender expert; Director\, Armenian Women’s Bar Association Board of Directors\n\n  \nThis event is co-sponsored by UCLA’s Promise Armenian Institute\, UCLA’s Armenian Students’ Association\, Jewish World Watch\, UCLA’s Initiative to Study Hate\, UCLA’s Luskin Center for History and Policy\, the National Association for Armenian Studies and Research\, and The University Network for Human Rights.
URL:https://luskincenter.history.ucla.edu/event/atrocities-genocide-the-duty-to-prevent-and-to-punish-under-international-law-the-situation-of-nagorno-karabakh-artsakh/
LOCATION:UCLA Engineering VI (Engineering Building 6)\, 404 Westwood Plaza\, Los Angeles\, 90095\, United States
CATEGORIES:Other
END:VEVENT
END:VCALENDAR