BEGIN:VCALENDAR
VERSION:2.0
PRODID:-//UCLA Luskin Center for History and Policy - ECPv6.15.20//NONSGML v1.0//EN
CALSCALE:GREGORIAN
METHOD:PUBLISH
X-ORIGINAL-URL:https://luskincenter.history.ucla.edu
X-WR-CALDESC:Events for UCLA Luskin Center for History and Policy
REFRESH-INTERVAL;VALUE=DURATION:PT1H
X-Robots-Tag:noindex
X-PUBLISHED-TTL:PT1H
BEGIN:VTIMEZONE
TZID:America/Los_Angeles
BEGIN:DAYLIGHT
TZOFFSETFROM:-0800
TZOFFSETTO:-0700
TZNAME:PDT
DTSTART:20220313T100000
END:DAYLIGHT
BEGIN:STANDARD
TZOFFSETFROM:-0700
TZOFFSETTO:-0800
TZNAME:PST
DTSTART:20221106T090000
END:STANDARD
BEGIN:DAYLIGHT
TZOFFSETFROM:-0800
TZOFFSETTO:-0700
TZNAME:PDT
DTSTART:20230312T100000
END:DAYLIGHT
BEGIN:STANDARD
TZOFFSETFROM:-0700
TZOFFSETTO:-0800
TZNAME:PST
DTSTART:20231105T090000
END:STANDARD
BEGIN:DAYLIGHT
TZOFFSETFROM:-0800
TZOFFSETTO:-0700
TZNAME:PDT
DTSTART:20240310T100000
END:DAYLIGHT
BEGIN:STANDARD
TZOFFSETFROM:-0700
TZOFFSETTO:-0800
TZNAME:PST
DTSTART:20241103T090000
END:STANDARD
END:VTIMEZONE
BEGIN:VEVENT
DTSTART;TZID=America/Los_Angeles:20231017T190000
DTEND;TZID=America/Los_Angeles:20231017T220000
DTSTAMP:20260422T002728
CREATED:20231016T213518Z
LAST-MODIFIED:20231016T213518Z
UID:5914-1697569200-1697580000@luskincenter.history.ucla.edu
SUMMARY:Armenian Rebirth: The Last Plight
DESCRIPTION:An evening with Garo Paylan; hosted by the Promise Armenian Institute at UCLA in partnership with the Center for Truth and Justice. This event is co-sponsored by the Armenian Students’ Association at UCLA\, The Promise Institute for Human Rights at UCLA School of Law\, the UCLA Luskin Center for History and Policy\, and the National Association for Armenian Studies and Research. \n  \nTuesday\, October 17\, 2023\n7:00 PM – 10:00 PM (Pacific Time)\nUCLA Mong Learning Center (Engineering VI Building)\n404 Westwood Plaza\nLos Angeles\, CA 90095 \n  \nClick here to register for in-person attendance. \nClick here to register for virtual attendance. \n  \nJoin us for an evening with Garo Paylan\, leading opposition voice and a human rights defender in Turkey\, as he addresses the recent blockade of the Lachin Corridor\, the military attack by Azerbaijan and resulting ethnic cleansing of the entirety of Artsakh/Nagorno-Karabakh\, ongoing acts of genocide\, and potential steps moving forward. \nGaro Paylan served in the Turkish parliament for eight years\, from 2015 to June 2023\, and is internationally recognized for his struggle for democracy and minority rights in Turkey\, as well as his support for peace in the Caucasus. \nPaylan was among the very few Armenians to be elected to the Turkish parliament and was the first lawmaker to submit an amendment for the recognition of the Armenian genocide in Turkey. He continued to highlight the need for Turkey to face this historic tragedy throughout the time he served in the parliament but was legally prosecuted for his amendments and statements. \nPaylan has been a vocal critic of discrimination against Turkey’s Christian and Jewish minorities and has consistently used his public position to highlight abuses and policies that affected minority communities. \nPrior to entering parliament\, Paylan served as a coordinator for Armenian schools in Turkey and is among the founders of “Friends of Hrant Dink” – a group that has sought justice for the 2007 killing of the Armenian journalist and has been organizing commemorations for the Armenian genocide. \nGaro Paylan is widely recognized as one of Turkey’s leading democracy advocates and has been the recipient of several international awards for his work on democracy. \n\nThis event will take place at the Mong Learning Center (Engineering VI Building) \nVisitor parking available at UCLA Parking Structure 8. \n\nPark on the roof of Parking Structure 8\nPay for parking at a Paystation\nTake the stairs or the elevator to Level 1/Westwood Plaza\nCross the street diagonally\, then turn slightly left\, continuing north\, past the bus stop\nEngineering VI will be on your right as you walk north on Westwood Plaza\n\nPlease note: This event will be photographed and recorded for documentation and distribution. All audience members agree to the possibility of appearing in these photographs and recordings by virtue of attending the event or participating in the event. \n  \nSponsor(s): The Promise Institute for Human Rights at UCLA School of Law\, Armenian Students’ Association at UCLA\, UCLA Luskin Center for History and Policy.
URL:https://luskincenter.history.ucla.edu/event/armenian-rebirth-the-last-plight/
LOCATION:UCLA Mong Learning Center\, 404 Westwood Plaza\, Los Angeles\, CA\, 90095\, United States
END:VEVENT
END:VCALENDAR