BEGIN:VCALENDAR
VERSION:2.0
PRODID:-//UCLA Luskin Center for History and Policy - ECPv6.15.20//NONSGML v1.0//EN
CALSCALE:GREGORIAN
METHOD:PUBLISH
X-ORIGINAL-URL:https://luskincenter.history.ucla.edu
X-WR-CALDESC:Events for UCLA Luskin Center for History and Policy
REFRESH-INTERVAL;VALUE=DURATION:PT1H
X-Robots-Tag:noindex
X-PUBLISHED-TTL:PT1H
BEGIN:VTIMEZONE
TZID:America/Los_Angeles
BEGIN:DAYLIGHT
TZOFFSETFROM:-0800
TZOFFSETTO:-0700
TZNAME:PDT
DTSTART:20230312T100000
END:DAYLIGHT
BEGIN:STANDARD
TZOFFSETFROM:-0700
TZOFFSETTO:-0800
TZNAME:PST
DTSTART:20231105T090000
END:STANDARD
BEGIN:DAYLIGHT
TZOFFSETFROM:-0800
TZOFFSETTO:-0700
TZNAME:PDT
DTSTART:20240310T100000
END:DAYLIGHT
BEGIN:STANDARD
TZOFFSETFROM:-0700
TZOFFSETTO:-0800
TZNAME:PST
DTSTART:20241103T090000
END:STANDARD
BEGIN:DAYLIGHT
TZOFFSETFROM:-0800
TZOFFSETTO:-0700
TZNAME:PDT
DTSTART:20250309T100000
END:DAYLIGHT
BEGIN:STANDARD
TZOFFSETFROM:-0700
TZOFFSETTO:-0800
TZNAME:PST
DTSTART:20251102T090000
END:STANDARD
END:VTIMEZONE
BEGIN:VEVENT
DTSTART;TZID=America/Los_Angeles:20240419T183000
DTEND;TZID=America/Los_Angeles:20240419T183000
DTSTAMP:20260421T034117
CREATED:20240410T203519Z
LAST-MODIFIED:20240520T222336Z
UID:6335-1713551400-1713551400@luskincenter.history.ucla.edu
SUMMARY:Film Screening and Director Q&A: Agniia Galdanova’s queer dissident documentary film “QUEENDOM”
DESCRIPTION:The UCLA Department of Slavic\, East European\, and Eurasian Languages and Cultures (SEEELC)\, in collaboration with the UCLA School of Theater\, Film\, and Television\, the UCLA Center for European and Russian Studies (CERS)\, and the UCLA Luskin Center for History and Policy\, invites you to a screening of Agniia Galdanova’s dissident Russian documentary film “Queendom\,” which will be followed by a Q&A session with the director. View the trailer here. \n  \nFilm Synopsis \nGena\, a queer artist from a small town in Russia\, dresses in otherworldly costumes made from junk and tape\, and protests the government on the streets of Moscow. Born and raised on the harsh streets of Magadan\, a frigid outpost of the Soviet gulag\, Gena is only 21. She stages radical performances in public that become a new form of art and activism. By doing that\, she wants to change people’s perception of beauty and queerness and bring attention to the harassment of the LGBTQ+ community. Their performances – often dark\, strange\, evocative\, and queer at their core – are a manifestation of Gena’s subconscious. But they come at a price. \n  \nAbout the Director \nAgniia Galdanova is a Sundance and IDFA-supported documentary film director. Her previous film\, “One Step Forward\, One Step Back\,” about a family’s dream to live far from civilization in the Altai Mountains\, premiered at the Message to Man International Film Festival. Her work focuses on complex human relationships told through immersive observational language. Her new film QUEENDOM about a young queer artist Gena Marvin premiered at SXSW 2023 in Documentary Competition.
URL:https://luskincenter.history.ucla.edu/event/film-screening-and-director-qa-agniia-galdanovas-queer-dissident-documentary-film-queendom/
LOCATION:James Bridges Theater\, 235 Charles E. Young Drive E\, Los Angeles\, CA\, 90095\, United States
CATEGORIES:Co-sponsored Events,Other
END:VEVENT
END:VCALENDAR