BEGIN:VCALENDAR
VERSION:2.0
PRODID:-//UCLA Luskin Center for History and Policy - ECPv6.15.20//NONSGML v1.0//EN
CALSCALE:GREGORIAN
METHOD:PUBLISH
X-WR-CALNAME:UCLA Luskin Center for History and Policy
X-ORIGINAL-URL:https://luskincenter.history.ucla.edu
X-WR-CALDESC:Events for UCLA Luskin Center for History and Policy
REFRESH-INTERVAL;VALUE=DURATION:PT1H
X-Robots-Tag:noindex
X-PUBLISHED-TTL:PT1H
BEGIN:VTIMEZONE
TZID:America/Los_Angeles
BEGIN:DAYLIGHT
TZOFFSETFROM:-0800
TZOFFSETTO:-0700
TZNAME:PDT
DTSTART:20230312T100000
END:DAYLIGHT
BEGIN:STANDARD
TZOFFSETFROM:-0700
TZOFFSETTO:-0800
TZNAME:PST
DTSTART:20231105T090000
END:STANDARD
BEGIN:DAYLIGHT
TZOFFSETFROM:-0800
TZOFFSETTO:-0700
TZNAME:PDT
DTSTART:20240310T100000
END:DAYLIGHT
BEGIN:STANDARD
TZOFFSETFROM:-0700
TZOFFSETTO:-0800
TZNAME:PST
DTSTART:20241103T090000
END:STANDARD
BEGIN:DAYLIGHT
TZOFFSETFROM:-0800
TZOFFSETTO:-0700
TZNAME:PDT
DTSTART:20250309T100000
END:DAYLIGHT
BEGIN:STANDARD
TZOFFSETFROM:-0700
TZOFFSETTO:-0800
TZNAME:PST
DTSTART:20251102T090000
END:STANDARD
BEGIN:DAYLIGHT
TZOFFSETFROM:-0800
TZOFFSETTO:-0700
TZNAME:PDT
DTSTART:20260308T100000
END:DAYLIGHT
BEGIN:STANDARD
TZOFFSETFROM:-0700
TZOFFSETTO:-0800
TZNAME:PST
DTSTART:20261101T090000
END:STANDARD
BEGIN:DAYLIGHT
TZOFFSETFROM:-0800
TZOFFSETTO:-0700
TZNAME:PDT
DTSTART:20270314T100000
END:DAYLIGHT
BEGIN:STANDARD
TZOFFSETFROM:-0700
TZOFFSETTO:-0800
TZNAME:PST
DTSTART:20271107T090000
END:STANDARD
END:VTIMEZONE
BEGIN:VEVENT
DTSTART;TZID=America/Los_Angeles:20240605T160000
DTEND;TZID=America/Los_Angeles:20240605T180000
DTSTAMP:20260420T212405
CREATED:20240531T143036Z
LAST-MODIFIED:20250218T195452Z
UID:6522-1717603200-1717610400@luskincenter.history.ucla.edu
SUMMARY:Violence in the Suburbs of France: A Tragic Cycle of Déjà Vus
DESCRIPTION:Luuk Slooter (Professor\, Utrecht University) \n \n  \nOn 27 June 2023 a 17-year-old boy\, Nahel Merzouk\, is shot dead by the police in Nanterre\, a suburb north of Paris (France). The same night collective violence erupts: cars burn down\, buildings are set on fire and there are heavy clashes between young people and the police. The unrest spreads across the French Republic and lasts for 8 days. \nThe death of Nahel was not a one-off incident\, but part of a longer history of suburban unrest in France’s marginalized suburbs. It was a déjà-vu. A tragic play that has been staged multiple times over the past four decades. Although the play has been performed in different forms\, at different locations\, and by different actors\, it has remained loyal to a script in three acts. \nIn this talk I will bring you to the disadvantaged suburbs (banlieues) of France and disaggregate this three act drama. Drawing on ethnographic research I will show how the cycle of car burning protests and police brutality is rooted in the structural violence of a socially and spatially divided society. \n  \n \nLuuk Slooter is an Assistant Professor Conflict Studies at Utrecht University. His research focuses on urban uprisings\, violence\, policing\, polarization and spatial segregation. He conducted ethnographic research in the French banlieues and disadvantaged neighborhoods in the Netherlands. He obtained his PhD from Utrecht University (the Netherlands) and the École des Hautes Études en Sciences Sociales (France). His book publications include ‘The Making of the Banlieue: An Ethnography of Space\, Identity and Violence’ (Palgrave\, 2019) and ‘Geweld’ [Violence] (Athenaeum\, 2021 – in Dutch – co-authored with Prof. Jolle Demmers). \nLuuk Slooter is currently visiting Professor at UCLA’s Center for European and Russian Studies (Dutch Studies Program). \n  \n  \nRSVP Here by June 3
URL:https://luskincenter.history.ucla.edu/event/violence-in-the-suburbs-of-france-a-tragic-cycle-of-deja-vus/
LOCATION:Bunche 6275\, Charles E Young Dr E\, Los Angeles
CATEGORIES:Other,Public Lecture
END:VEVENT
BEGIN:VEVENT
DTSTART;TZID=America/Los_Angeles:20241104T120000
DTEND;TZID=America/Los_Angeles:20241104T133000
DTSTAMP:20260420T212405
CREATED:20241001T230536Z
LAST-MODIFIED:20250218T193821Z
UID:6634-1730721600-1730727000@luskincenter.history.ucla.edu
SUMMARY:The Nexus of Education Non-Profits\, Corporations\, and Philanthropy: The Pressures of the Past and Reimagining the Future (The Pasts and Futures of Higher Education in the U.S. Seminar)
DESCRIPTION:Abbie Cohen (PhD Student\, UCLA) \n  \n \n  \n  \n 
URL:https://luskincenter.history.ucla.edu/event/lchp-seminar-the-pasts-and-futures-of-higher-education-in-the-u-s/
LOCATION:Bunche 6339
CATEGORIES:Lunch Lecture,Other,Pasts and Future of Higher Education,Public Lecture
END:VEVENT
BEGIN:VEVENT
DTSTART;TZID=America/Los_Angeles:20241118T120000
DTEND;TZID=America/Los_Angeles:20241118T133000
DTSTAMP:20260420T212405
CREATED:20241001T231146Z
LAST-MODIFIED:20250218T193749Z
UID:6645-1731931200-1731936600@luskincenter.history.ucla.edu
SUMMARY:The University in Ruins? The Past and Futures of Today's Higher Ed Crisis
DESCRIPTION:Davarian Baldwin (Paul E. Raether Distinguished Professor of American Studies and Founding Director of Smart Cities Research Lab\, Trinity College) \n  \n \n 
URL:https://luskincenter.history.ucla.edu/event/lchp-seminar-the-pasts-and-futures-of-higher-education-in-the-u-s-2/
LOCATION:Bunche 6339
CATEGORIES:Lunch Lecture,Other,Pasts and Future of Higher Education,Public Lecture
END:VEVENT
BEGIN:VEVENT
DTSTART;TZID=America/Los_Angeles:20241209T120000
DTEND;TZID=America/Los_Angeles:20241209T133000
DTSTAMP:20260420T212405
CREATED:20241001T231643Z
LAST-MODIFIED:20250227T075810Z
UID:6648-1733745600-1733751000@luskincenter.history.ucla.edu
SUMMARY:Beyond Neutrality: The University President as Teacher in Turbulent Times
DESCRIPTION:Michael Roth (President\, Wesleyan University) \n  \n 
URL:https://luskincenter.history.ucla.edu/event/lchp-seminar-the-pasts-and-futures-of-higher-education-in-the-u-s-3/
LOCATION:Bunche 6339
CATEGORIES:Lunch Lecture,Past Events,Pasts and Future of Higher Education,Public Lecture
END:VEVENT
BEGIN:VEVENT
DTSTART;TZID=America/Los_Angeles:20250122T160000
DTEND;TZID=America/Los_Angeles:20250122T173000
DTSTAMP:20260420T212405
CREATED:20241219T175413Z
LAST-MODIFIED:20250227T075737Z
UID:6714-1737561600-1737567000@luskincenter.history.ucla.edu
SUMMARY:The Original DEI: The Protestant Establishment and the Secularization of the University
DESCRIPTION:Nomi M. Stolzenberg (Nathan and Lily Shapell Professor of Law\, USC) \n 
URL:https://luskincenter.history.ucla.edu/event/the-original-dei-the-protestant-establishment-and-the-secularization-of-the-university/
LOCATION:Bunche 6339
CATEGORIES:Lunch Lecture,Other,Past Events,Pasts and Future of Higher Education,Public Lecture
END:VEVENT
BEGIN:VEVENT
DTSTART;TZID=America/Los_Angeles:20250210T120000
DTEND;TZID=America/Los_Angeles:20250210T133000
DTSTAMP:20260420T212405
CREATED:20250130T002052Z
LAST-MODIFIED:20250312T180856Z
UID:6717-1739188800-1739194200@luskincenter.history.ucla.edu
SUMMARY:Once More Unto the Breach: The Neutrality Debate and the American University\, 1967 and 2025
DESCRIPTION:Malick Ghachem (Professor\, MIT) \n 
URL:https://luskincenter.history.ucla.edu/event/once-more-unto-the-breach-the-neutrality-debate-and-the-american-university-1967-and-2025/
LOCATION:Bunche 6339
CATEGORIES:Lunch Lecture,Other,Past Events,Pasts and Future of Higher Education
END:VEVENT
BEGIN:VEVENT
DTSTART;TZID=America/Los_Angeles:20250306T180000
DTEND;TZID=America/Los_Angeles:20250306T190000
DTSTAMP:20260420T212405
CREATED:20250219T192700Z
LAST-MODIFIED:20250303T204232Z
UID:6775-1741284000-1741287600@luskincenter.history.ucla.edu
SUMMARY:Why History Matters in an Age of Polycrisis
DESCRIPTION:Wende Museum
URL:https://luskincenter.history.ucla.edu/event/why-history-matters-in-an-age-of-polycrisis/
LOCATION:Wende Museum\, 10808 Culver Blvd\, Culver City\, CA\, 90230
CATEGORIES:Co-sponsored Events,Other
END:VEVENT
BEGIN:VEVENT
DTSTART;TZID=America/Los_Angeles:20250312T121500
DTEND;TZID=America/Los_Angeles:20250312T133000
DTSTAMP:20260420T212405
CREATED:20250219T192121Z
LAST-MODIFIED:20250303T204155Z
UID:6770-1741781700-1741786200@luskincenter.history.ucla.edu
SUMMARY:The Legacy of Impunity: A Book Talk with Philippe Sands
DESCRIPTION:UCLA Law Room 1447 \n 
URL:https://luskincenter.history.ucla.edu/event/the-legacy-of-impunity-a-book-talk-with-philippe-sands/
LOCATION:ULCA Law Room 1447
CATEGORIES:Co-sponsored Events,Other,Public Lecture
END:VEVENT
BEGIN:VEVENT
DTSTART;TZID=America/Los_Angeles:20250407T120000
DTEND;TZID=America/Los_Angeles:20250407T133000
DTSTAMP:20260420T212405
CREATED:20250416T181529Z
LAST-MODIFIED:20250416T181628Z
UID:6862-1744027200-1744032600@luskincenter.history.ucla.edu
SUMMARY:Black for the First Time: Race\, Admissions\, and Socialization in the Historically White Institutional Context
DESCRIPTION:Jamaal Muwwakkil (Chancellor’s Postdoctoral Research Fellow\, UCLA) \n 
URL:https://luskincenter.history.ucla.edu/event/black-for-the-first-time-race-admissions-and-socialization-in-the-historically-white-institutional-context/
LOCATION:Bunche Hall 6339\, Charles E Young Dr E\, Los Angeles
CATEGORIES:Lunch Lecture,Luskin Workshop in History and Policy,Other,Pasts and Future of Higher Education
END:VEVENT
BEGIN:VEVENT
DTSTART;TZID=America/Los_Angeles:20250421T160000
DTEND;TZID=America/Los_Angeles:20250421T173000
DTSTAMP:20260420T212405
CREATED:20250416T181956Z
LAST-MODIFIED:20250416T181956Z
UID:6867-1745251200-1745256600@luskincenter.history.ucla.edu
SUMMARY:Borders within Borders: Service Provider Voices across America's Patchwork of Immigration Policies
DESCRIPTION:Tatiana Londoño (UCLA Luskin School of Public Affairs)
URL:https://luskincenter.history.ucla.edu/event/borders-within-borders-service-provider-voices-across-americas-patchwork-of-immigration-policies/
LOCATION:Bunche Hall 6339\, Charles E Young Dr E\, Los Angeles
CATEGORIES:Luskin Workshop in History and Policy,Other
END:VEVENT
BEGIN:VEVENT
DTSTART;TZID=America/Los_Angeles:20250430T180000
DTEND;TZID=America/Los_Angeles:20250430T200000
DTSTAMP:20260420T212405
CREATED:20250421T185335Z
LAST-MODIFIED:20250421T185537Z
UID:6873-1746036000-1746043200@luskincenter.history.ucla.edu
SUMMARY:Why History Matters: L.A. Wildfires Past\, Present and Future
DESCRIPTION:Hitoshi Abe\, Gerald Clark Jr.\, Char Miller\, with moderator Stephen Aron \n 
URL:https://luskincenter.history.ucla.edu/event/why-history-matters-l-a-wildfires-past-present-and-future/
LOCATION:Lenart Auditorium\, Fowler Museum at UCLA\, 308 Charles E Young Dr N\, Los Angeles\, CA\, 90024
CATEGORIES:Other
END:VEVENT
BEGIN:VEVENT
DTSTART;TZID=America/Los_Angeles:20251103T150000
DTEND;TZID=America/Los_Angeles:20251103T180000
DTSTAMP:20260420T212405
CREATED:20251009T174612Z
LAST-MODIFIED:20251009T174612Z
UID:7181-1762182000-1762192800@luskincenter.history.ucla.edu
SUMMARY:The Future of History
DESCRIPTION:
URL:https://luskincenter.history.ucla.edu/event/the-future-of-history/
LOCATION:Legacy Room\, Luskin Conference Center\, 425 Westwood Plaza\, Los Angeles\, CA\, 90095
CATEGORIES:Co-sponsored Events,Other,Public Lecture
END:VEVENT
BEGIN:VEVENT
DTSTART;TZID=America/Los_Angeles:20251110T183000
DTEND;TZID=America/Los_Angeles:20251110T193000
DTSTAMP:20260420T212405
CREATED:20251027T154714Z
LAST-MODIFIED:20251027T154714Z
UID:7187-1762799400-1762803000@luskincenter.history.ucla.edu
SUMMARY:"Teach Truth: The Struggle for an Antiracist Education" with Jesse Hagopian
DESCRIPTION:
URL:https://luskincenter.history.ucla.edu/event/teach-truth-the-struggle-for-an-antiracist-education-with-jesse-hagopian/
LOCATION:3312 Murphy Hall
CATEGORIES:Co-sponsored Events,Other
END:VEVENT
BEGIN:VEVENT
DTSTART;TZID=America/Los_Angeles:20251202T120000
DTEND;TZID=America/Los_Angeles:20251202T140000
DTSTAMP:20260420T212405
CREATED:20251104T215024Z
LAST-MODIFIED:20251104T215024Z
UID:7197-1764676800-1764684000@luskincenter.history.ucla.edu
SUMMARY:Higher Education in Peril: A Conversation with Prof. Kim Scheppele and Prof. David Kaye
DESCRIPTION:  \nRSVP here by November 24
URL:https://luskincenter.history.ucla.edu/event/higher-education-in-peril-a-conversation-with-prof-kim-scheppele-and-prof-david-kaye/
LOCATION:Bunche 6275\, Charles E Young Dr E\, Los Angeles
CATEGORIES:Lunch Lecture,Luskin Workshop in History and Policy,Other
END:VEVENT
BEGIN:VEVENT
DTSTART;TZID=America/Los_Angeles:20260203T120000
DTEND;TZID=America/Los_Angeles:20260203T133000
DTSTAMP:20260420T212405
CREATED:20260114T002850Z
LAST-MODIFIED:20260114T003006Z
UID:7259-1770120000-1770125400@luskincenter.history.ucla.edu
SUMMARY:The Law and Politics of the Federal Assault on Higher Education: A Conversation with Prof. Joseph Fishkin
DESCRIPTION:Joseph Fishkin\, UCLA Law
URL:https://luskincenter.history.ucla.edu/event/the-law-and-politics-of-the-federal-assault-on-higher-education-a-conversation-with-prof-joseph-fishkin/
LOCATION:Bunche 6339
CATEGORIES:Lunch Lecture,Other
END:VEVENT
BEGIN:VEVENT
DTSTART;TZID=America/Los_Angeles:20260406T120000
DTEND;TZID=America/Los_Angeles:20260406T133000
DTSTAMP:20260420T212405
CREATED:20260316T222705Z
LAST-MODIFIED:20260316T222725Z
UID:7301-1775476800-1775482200@luskincenter.history.ucla.edu
SUMMARY:Antisemitism and the Law in the Second Trump Administration: Perspectives from UPenn
DESCRIPTION:Amanda Shanor\, Sigal Ben-Porath\, and Serena Mayeri \n\n 
URL:https://luskincenter.history.ucla.edu/event/antisemitism-and-the-law-in-the-second-trump-administration-perspectives-from-upenn/
LOCATION:Zoom
CATEGORIES:Other,The Past and Futures of Higher Education
END:VEVENT
BEGIN:VEVENT
DTSTART;TZID=America/Los_Angeles:20260414T120000
DTEND;TZID=America/Los_Angeles:20260414T133000
DTSTAMP:20260420T212405
CREATED:20260402T161352Z
LAST-MODIFIED:20260402T163304Z
UID:7308-1776168000-1776173400@luskincenter.history.ucla.edu
SUMMARY:Borders in Times of Instability: A Cross-Disciplinary Conversation with Luwei Ying and Hiroshi Motomura
DESCRIPTION:Luwei Ying and Hiroshi Motomura
URL:https://luskincenter.history.ucla.edu/event/borders-in-times-of-instability-a-cross-disciplinary-conversation-with-luwei-ying-and-hiroshi-motomura/
LOCATION:Bunche 6339
CATEGORIES:Lunch Lecture,Other
END:VEVENT
END:VCALENDAR