BEGIN:VCALENDAR
VERSION:2.0
PRODID:-//UCLA Luskin Center for History and Policy - ECPv6.15.20//NONSGML v1.0//EN
CALSCALE:GREGORIAN
METHOD:PUBLISH
X-WR-CALNAME:UCLA Luskin Center for History and Policy
X-ORIGINAL-URL:https://luskincenter.history.ucla.edu
X-WR-CALDESC:Events for UCLA Luskin Center for History and Policy
REFRESH-INTERVAL;VALUE=DURATION:PT1H
X-Robots-Tag:noindex
X-PUBLISHED-TTL:PT1H
BEGIN:VTIMEZONE
TZID:America/Los_Angeles
BEGIN:DAYLIGHT
TZOFFSETFROM:-0800
TZOFFSETTO:-0700
TZNAME:PDT
DTSTART:20220313T100000
END:DAYLIGHT
BEGIN:STANDARD
TZOFFSETFROM:-0700
TZOFFSETTO:-0800
TZNAME:PST
DTSTART:20221106T090000
END:STANDARD
BEGIN:DAYLIGHT
TZOFFSETFROM:-0800
TZOFFSETTO:-0700
TZNAME:PDT
DTSTART:20230312T100000
END:DAYLIGHT
BEGIN:STANDARD
TZOFFSETFROM:-0700
TZOFFSETTO:-0800
TZNAME:PST
DTSTART:20231105T090000
END:STANDARD
BEGIN:DAYLIGHT
TZOFFSETFROM:-0800
TZOFFSETTO:-0700
TZNAME:PDT
DTSTART:20240310T100000
END:DAYLIGHT
BEGIN:STANDARD
TZOFFSETFROM:-0700
TZOFFSETTO:-0800
TZNAME:PST
DTSTART:20241103T090000
END:STANDARD
END:VTIMEZONE
BEGIN:VEVENT
DTSTART;TZID=America/Los_Angeles:20231121T140000
DTEND;TZID=America/Los_Angeles:20231121T150000
DTSTAMP:20260421T213544
CREATED:20231114T013837Z
LAST-MODIFIED:20250218T211551Z
UID:6075-1700575200-1700578800@luskincenter.history.ucla.edu
SUMMARY:Understanding the Israel-Gaza Conflict: Causes\, Conduct\, Consequences
DESCRIPTION:James L. Gelvin (Professor\, UCLA) \nDavid N. Myers (Professor\, UCLA) \n  \nWhat is Hamas? What’s behind its attack on Israel? Why was Israel so ill-prepared? What lies ahead in the future in Israel-Palestine and the wider region? \nThis informational session will feature short presentations by Dr. James L. Gelvin and Dr. David N. Myers\, followed by an audience Q&A. \n  \nThis event will be held on Zoom. Advance registration is required. Register here. \n  \n    \nJames L. Gelvin is professor of history at UCLA. He is author of numerous books and articles on Middle East history and contemporary issues\, including The Israel-Palestine Conflict: A History. \nDavid N. Myers is professor of history at UCLA and director of the Luskin Center for History and Policy. He is the author and editor of numerous books in the field of modern Jewish history\, including Between Arab and Jew: The Lost Voice of Simon Rawidowicz. \n  \nThis event is co-sponsored by the UCLA Alan D. Leve Center for Jewish Studies\, the UCLA Y & S Nazarian Center for Israel Studies\, and the UCLA History Department.
URL:https://luskincenter.history.ucla.edu/event/understanding-the-israel-gaza-conflict-causes-conduct-consequences/
LOCATION:Zoom
CATEGORIES:Other
END:VEVENT
BEGIN:VEVENT
DTSTART;TZID=America/Los_Angeles:20231129T123000
DTEND;TZID=America/Los_Angeles:20231129T133000
DTSTAMP:20260421T213544
CREATED:20231025T184748Z
LAST-MODIFIED:20250218T195905Z
UID:5924-1701261000-1701264600@luskincenter.history.ucla.edu
SUMMARY:Where the Hood at? Fifty Years of Change in Black Neighborhoods
DESCRIPTION:Michael Lens (Professor\, UCLA) \n \nWhat does DMX have to do with fair housing? Michael Lens examines fifty years of data on Black neighborhoods since the Fair Housing Act to explore this question and provide the first comprehensive picture of the characteristics and trajectories of America’s longest enduring urban racial enclaves. \n  \nMichael Lens is Associate Professor of Urban Planning and Public Policy\, and Associate Faculty Director of the Lewis Center for Regional Policy Studies. Professor Lens’s research and teaching explore the potential of public policy to address housing market inequities that lead to negative outcomes for low-income families and communities of color. Professor Lens’s research has received funding from the MacArthur Foundation\, the Arnold Foundation\, and the Terner Center for Housing Innovation\, among other sources. \n  \n  \n 
URL:https://luskincenter.history.ucla.edu/event/where-the-hood-at-fifty-years-of-change-in-black-neighborhoods/
LOCATION:Bunche Hall 6339\, Charles E Young Dr E\, Los Angeles
CATEGORIES:Other
END:VEVENT
END:VCALENDAR