BEGIN:VCALENDAR
VERSION:2.0
PRODID:-//UCLA Luskin Center for History and Policy - ECPv6.15.20//NONSGML v1.0//EN
CALSCALE:GREGORIAN
METHOD:PUBLISH
X-WR-CALNAME:UCLA Luskin Center for History and Policy
X-ORIGINAL-URL:https://luskincenter.history.ucla.edu
X-WR-CALDESC:Events for UCLA Luskin Center for History and Policy
REFRESH-INTERVAL;VALUE=DURATION:PT1H
X-Robots-Tag:noindex
X-PUBLISHED-TTL:PT1H
BEGIN:VTIMEZONE
TZID:America/Los_Angeles
BEGIN:DAYLIGHT
TZOFFSETFROM:-0800
TZOFFSETTO:-0700
TZNAME:PDT
DTSTART:20230312T100000
END:DAYLIGHT
BEGIN:STANDARD
TZOFFSETFROM:-0700
TZOFFSETTO:-0800
TZNAME:PST
DTSTART:20231105T090000
END:STANDARD
BEGIN:DAYLIGHT
TZOFFSETFROM:-0800
TZOFFSETTO:-0700
TZNAME:PDT
DTSTART:20240310T100000
END:DAYLIGHT
BEGIN:STANDARD
TZOFFSETFROM:-0700
TZOFFSETTO:-0800
TZNAME:PST
DTSTART:20241103T090000
END:STANDARD
BEGIN:DAYLIGHT
TZOFFSETFROM:-0800
TZOFFSETTO:-0700
TZNAME:PDT
DTSTART:20250309T100000
END:DAYLIGHT
BEGIN:STANDARD
TZOFFSETFROM:-0700
TZOFFSETTO:-0800
TZNAME:PST
DTSTART:20251102T090000
END:STANDARD
END:VTIMEZONE
BEGIN:VEVENT
DTSTART;TZID=America/Los_Angeles:20240110T160000
DTEND;TZID=America/Los_Angeles:20240110T180000
DTSTAMP:20260421T140642
CREATED:20231102T002213Z
LAST-MODIFIED:20250218T195748Z
UID:6008-1704902400-1704909600@luskincenter.history.ucla.edu
SUMMARY:Racism\, Law\, and the Hidden Power of the Archive
DESCRIPTION:Elizabeth Hinton (Professor\, Yale University) \n \nThe United States Supreme Court has made it nearly impossible to prove that a particular law is racially discriminatory. Under the standards the Court established in the 1970s\, archival materials are the only available evidentiary sources that can be used to prove discriminatory intent behind the enactment of criminal and civil laws. Although the proof lies in the historical record\, it has yet to be fully utilized in this manner. Focusing her discussion on crime control policies enacted in the 1980s and 1990s\, Elizabeth Hinton will explore opportunities within archives to combat racial discrimination and advance social justice through the law. \n  \nElizabeth Hinton is Professor of History\, African American Studies\, and Law at Yale University. Her research focuses on the persistence of poverty\, racial inequality\, and urban violence in the 20th century United States. Professor Hinton’s first book\, From the War on Poverty to the War on Crime: The Making of Mass Incarceration in America was published by Harvard University Press in 2017. Her recent book\, America on Fire: The Untold History of Police Violence and Black Rebellion Since the 1960s (Liveright 2021)\, won a Robert F. Kennedy book award. \n  \nDate: Wednesday\, January 10\, 2024 \nTime: 4 pm \nLocation: Bunche Hall 6275 \n  \nLight refreshments will be served. \n  \nPlease RSVP before Friday\, January 5.
URL:https://luskincenter.history.ucla.edu/event/racism-law-and-the-hidden-power-of-the-archive/
LOCATION:Bunche 6275\, Charles E Young Dr E\, Los Angeles
CATEGORIES:Other,Public Lecture
END:VEVENT
END:VCALENDAR