BEGIN:VCALENDAR
VERSION:2.0
PRODID:-//UCLA Luskin Center for History and Policy - ECPv6.15.20//NONSGML v1.0//EN
CALSCALE:GREGORIAN
METHOD:PUBLISH
X-ORIGINAL-URL:https://luskincenter.history.ucla.edu
X-WR-CALDESC:Events for UCLA Luskin Center for History and Policy
REFRESH-INTERVAL;VALUE=DURATION:PT1H
X-Robots-Tag:noindex
X-PUBLISHED-TTL:PT1H
BEGIN:VTIMEZONE
TZID:America/Los_Angeles
BEGIN:DAYLIGHT
TZOFFSETFROM:-0800
TZOFFSETTO:-0700
TZNAME:PDT
DTSTART:20230312T100000
END:DAYLIGHT
BEGIN:STANDARD
TZOFFSETFROM:-0700
TZOFFSETTO:-0800
TZNAME:PST
DTSTART:20231105T090000
END:STANDARD
BEGIN:DAYLIGHT
TZOFFSETFROM:-0800
TZOFFSETTO:-0700
TZNAME:PDT
DTSTART:20240310T100000
END:DAYLIGHT
BEGIN:STANDARD
TZOFFSETFROM:-0700
TZOFFSETTO:-0800
TZNAME:PST
DTSTART:20241103T090000
END:STANDARD
BEGIN:DAYLIGHT
TZOFFSETFROM:-0800
TZOFFSETTO:-0700
TZNAME:PDT
DTSTART:20250309T100000
END:DAYLIGHT
BEGIN:STANDARD
TZOFFSETFROM:-0700
TZOFFSETTO:-0800
TZNAME:PST
DTSTART:20251102T090000
END:STANDARD
END:VTIMEZONE
BEGIN:VEVENT
DTSTART;TZID=America/Los_Angeles:20240515T160000
DTEND;TZID=America/Los_Angeles:20240515T180000
DTSTAMP:20260420T210958
CREATED:20240328T225058Z
LAST-MODIFIED:20250218T195705Z
UID:6294-1715788800-1715796000@luskincenter.history.ucla.edu
SUMMARY:How European Wars End - and What This Might Tell Us About the Conditions for Peace in Ukraine
DESCRIPTION:Stella Ghervas (Assistant Professor\, UCLA) \n \n  \n \nStella Ghervas is Professor of History and the Eugen Weber Chair in Modern European History at UCLA. She has held teaching\, research and visiting positions in Australia\, France\, Georgia\, Moldova\, Romania\, Russia\, Switzerland\, Ukraine\, the United Kingdom\, and the United States. Her main interests are in intellectual and international history of modern Europe\, with special reference to the history of peace and peace-making\, and in Russia’s intellectual and maritime history. She is the author or editor of six books\, most notably Réinventer la tradition: Alexandre Stourdza et l’Europe de la Sainte Alliance (2008)\, which won the Guizot Prize from the Académie Française\, A Cultural History of Peace in the Age of Enlightenment (co-ed.\, 2020)\, and Conquering Peace: From the Enlightenment to the European Union (2021)\, which won the 2023 Laura Shannon Prize. She is now working on a new book Calming the Waters? A New History of the Black Sea\, 1774-1920s\, and an anthology of essential texts on peace from the Antiquity to the present day. \nCheck out a recent interview featuring Professor Ghervas\, “Pondering Peace: A Q&A with Professor Stella Ghervas”\, available on the UCLA College website.
URL:https://luskincenter.history.ucla.edu/event/title-tbd/
CATEGORIES:Other,Public Lecture
END:VEVENT
END:VCALENDAR